BEGIN:VCALENDAR
VERSION:2.0
PRODID:-//North Texas Regional P-16 Council - ECPv6.13.2.1//NONSGML v1.0//EN
CALSCALE:GREGORIAN
METHOD:PUBLISH
X-WR-CALNAME:North Texas Regional P-16 Council
X-ORIGINAL-URL:https://ntrp16.org
X-WR-CALDESC:Events for North Texas Regional P-16 Council
REFRESH-INTERVAL;VALUE=DURATION:PT1H
X-Robots-Tag:noindex
X-PUBLISHED-TTL:PT1H
BEGIN:VTIMEZONE
TZID:UTC
BEGIN:STANDARD
TZOFFSETFROM:+0000
TZOFFSETTO:+0000
TZNAME:UTC
DTSTART:20230101T000000
END:STANDARD
END:VTIMEZONE
BEGIN:VEVENT
DTSTART;TZID=UTC:20240409T090000
DTEND;TZID=UTC:20240409T120000
DTSTAMP:20260423T154632
CREATED:20230830T013229Z
LAST-MODIFIED:20230830T013229Z
UID:431-1712653200-1712664000@ntrp16.org
SUMMARY:NTRP-16 Council: Transitions
DESCRIPTION:Topics: \nTransitions \n  \nHost: Lisa Harrison \n  \nFacilitator: Lisa Harrison\, Renee Parker\, and Mathew Mengesh
URL:https://ntrp16.org/event/ntrp-16-council-transitions/
LOCATION:ESC Region 11\, 1451 S Cherry Lane\, White Settlement\, TX\, 76108\, United States
END:VEVENT
BEGIN:VEVENT
DTSTART;TZID=UTC:20240402T090000
DTEND;TZID=UTC:20240402T140000
DTSTAMP:20260423T154632
CREATED:20240226T181252Z
LAST-MODIFIED:20240226T181257Z
UID:943-1712048400-1712066400@ntrp16.org
SUMMARY:Construction Career Day
DESCRIPTION:Construction Career Day Flyer for Schools(1)
URL:https://ntrp16.org/event/construction-career-day/
LOCATION:1403 North Washington Avenue\, 1403 North Washington Avenue\, Dallas\, TX\, 75204\, United States
END:VEVENT
BEGIN:VEVENT
DTSTART;TZID=UTC:20240206T090000
DTEND;TZID=UTC:20240206T120000
DTSTAMP:20260423T154632
CREATED:20230830T013011Z
LAST-MODIFIED:20230830T013011Z
UID:429-1707210000-1707220800@ntrp16.org
SUMMARY:NTRP-16 Council: 88th Texas Legislative Session
DESCRIPTION:Topics: \nChanges Based on 88th Texas Legislative Session and Impacts on Education and Work \n  \nFacilitator:  Rosalyn Walker
URL:https://ntrp16.org/event/ntrp-16-council-88th-texas-legislative-session/
LOCATION:Virtual
END:VEVENT
BEGIN:VEVENT
DTSTART;VALUE=DATE:20240202
DTEND;VALUE=DATE:20240203
DTSTAMP:20260423T154632
CREATED:20231218T174114Z
LAST-MODIFIED:20231218T174114Z
UID:798-1706832000-1706918399@ntrp16.org
SUMMARY:FREE all-day workshop skills to confidently teach the Armenian Genocide requirements included in the World History TEKS since 2018.
DESCRIPTION:Dear Colleagues\, \n  \nWe would like to invite you\, your faculty\, and any interested students to join us for a FREE all-day workshop to equip teachers with the lessons\, knowledge and skills to confidently teach the Armenian Genocide requirements included in the World History TEKS since 2018. \n  \nOn Friday\, February 2\, 2024 at the Hall of Lights in Carrollton\, TX (next to Hebron High School) professional educators from The Genocide Education Project\, Southern Methodist University Human Rights Program and Armenian community members from St. Sarkis Armenian Church will come together for the first time in Texas to present “Seeing the Humanity in Each of Us – Lessons of the Armenian Genocide” teacher workshop. Funding for the workshop is provided by a generous grant awarded by the Texas Holocaust\, Genocide\, and Antisemitism Advisory Commission (THGAAC) for Armenian Genocide education. \n  \nThe workshop is open to any secondary teacher in the state of Texas\, as well as university and college faculty members and their students\, and will provide professional development credit for those needing it.  We encourage attending the workshop in person to receive the most powerful engaging experience; however\, live stream is available for teachers unable to travel to Carrollton. (please see the attached flyer for registration information) \n  \nSeeing the Humanity in Each of Us: The Lessons of the Armenian Genocide teacher workshop will include: \n  \n\nLessons on how to teach about genocide and fulfill the TEKS requirements\nHistorical background of Armenia and the Armenian Genocide\nArmenian Genocide survivor descendent testimonies\nHistory of Armenians in Texas\nTour of the St. Sarkis Armenian Church complex\nArmenian Lunch (in person only)\nA copy of the historical fiction novel The Sandcastle Girls by Chris Bohjalian (in person only)\n\nPlease disseminate the flyer attached and invite current or future Social Studies and English Language Arts teachers and interested scholars to attend this FREE professional development workshop.  We look forward to meeting you at the workshop and hearing back from you or answering any questions you have. \nBest wishes\,TEACHERS WORKSHOP FLYER (1) (2) \nRussell Greer\, PhD \nProfessor Emeritus (English) \n(940)368-3071 \ndentongreer@verizon.net \nTEACHERS-WORKSHOP-FLYER
URL:https://ntrp16.org/event/free-all-day-workshop-skills-to-confidently-teach-the-armenian-genocide-requirements-included-in-the-world-history-teks-since-2018/
LOCATION:TX
END:VEVENT
BEGIN:VEVENT
DTSTART;TZID=UTC:20240110T100000
DTEND;TZID=UTC:20240110T113000
DTSTAMP:20260423T154632
CREATED:20231218T173410Z
LAST-MODIFIED:20231218T173410Z
UID:796-1704880800-1704886200@ntrp16.org
SUMMARY:December TxCAN Better FAFSA E-Blast - Training Opportunity!
DESCRIPTION:Preparing for Better FAFSA \nWhile we await the release date of Better FAFSA this December\, it is important that college access practitioners work with students and contributors to take the proactive steps of completing their FSA ID this fall. This includes assisting parents and students with creating personal email addresses.   By preparing the smaller steps now\, practitioners can make the most of the opportunities available during this Financial Aid Season. \nWe recognize that the creation of FSA IDs for parents without social security numbers represents a significant change this year. On November 2nd\, The Office of Federal Student Aid held a webinar sharing details about the FSA ID creation process for parent contributors who do not have a Social Security Number (SSN). Recognizing the concerns arising from this change in the financial aid process for mixed-status families\, TxCAN has collaborated with ImmSchools and NCAN to offer supplementary training and support. We ask that you please register and share the ImmSchools Webinar\, so that together we can ensure that Texas college access professionals are well-equipped to assist all students this year. \nBelow are some resources and upcoming webinars to get you started. Also\, don’t forget to bookmark the TxCAN Financial Aid Resource hub\, so you can easily access financial aid training and resources at any time during the 23-24 school year. \n ImmSchools Webinar! \nTitle: Supporting Practitioners through the new Financial Aid process for Mixed-Status families \nDescription: Join this engaging session where practitioners will enhance their knowledge and skills to effectively guide our immigrant communities\, including mixed-status families\, undocumented\, and DACAmented students\, through the complexities of the higher education journey. ImmSchools isexcited to be joined by\, MorraLee Keller\, from NCAN\, who will be providing an overview of the FSA ID process. Practitioners will learn best practices and strategies to foster safe and inclusive conversations\, empowering all students to excel. Gain access to a valuable toolkit and resources\, including a comprehensive guidance document for practitioners to reference after the session. \nWho is ImmSchools: As a non-profit organization led by immigrants\, ImmSchools is committed to creating safe and inclusive school environments for undocumented and mixed-status students and families. We collaborate with districts\, schools\, and community leaders across NYC\, NJ\, and Texas\, providing targeted interventions and professional development opportunities to educators\, families\, and students in support of the undocumented and immigrant community. \nAll attendees will be granted CPE credit from TxCAN for their participation in this valuable professional development opportunity. \nWhen: Jan 10\, 2024 10:00 – 11:30 AM Central Time (US and Canada) \nREGISTER HERE \nTxCAN Blog Updates \nWho Needs An FSA ID?: Demystifying FSA IDs for Students and Parents\nFiling the Free Application for Federal Student Aid (FAFSA) is a critical step in securing financial assistance for higher education. One essential requirement is the Federal Student Aid ID (FSA ID)\, which often raises questions\, especially for students who are dependent. In this blog\, TxCAN will clarify who needs an FSA ID\, ensuring a smoother FAFSA application process. \nRead More Here \nNavigating the New FSA ID Process for Parents Without SSNs\nThe Free Application for Federal Student Aid (FAFSA) is an essential step in securing financial aid for higher education. For parents without Social Security Numbers (SSNs)\, a new FSA ID process has been introduced for the 2024-25 FAFSA application. This blog will clarify the key aspects of this process\, ensuring that you understand the steps involved and are well-prepared when the time comes to assist families in this process. \n Read More Here  \nWebinars \n  \nFAFSA Walkthrough – For Students and Parents \nGet an overview of the FAFSA\, the application required by all colleges nationwide in order to receive federal financial aid. We’ll walk you through the new Better FAFSA available in December 2023 for 2024-25. \nWednesday\, Dec 13\, 2023\, at 6pm CST register here\nMonday\, Dec 18\, 2023\, at 5 pm CST register here\nTuesday\, January 9\, 2023 at 4 pm CST register here\nNCAN Webinar Series  \nTo help you prepare\, the National College Attainment Network (NCAN) is hosting a number of two-hour webinars from August through December that will cover Better FAFSA-related topics\, including: line-by-line review of the new FAFSA form\, updates to the FSA ID process for those people without Social Security Numbers\, reviewing the FAFSA Submission Summary (formerly the Student Aid Report)\, the status of resources and tools available from FSA and NCAN \nPlease note that these webinars are free for all and are open to both members and nonmembers. Each webinar will cover the same content\, so you should only register for one. \nFriday\, January 5\, 2024\, at 12-2 pm CST register here. \n  \nImm Schools – Supporting Practitioners through the new Financial Aid process for Mixed-Status families \nJoin this engaging session where practitioners will enhance their knowledge and skills to effectively guide our immigrant communities\, including mixed-status families\, undocumented\, and DACAmented students\, through the complexities of the higher education journey. ImmSchools is excited to be joined by\, MorraLee Keller\, from NCAN\, who will be providing an overview of the FSA ID process. Practitioners will learn best practices and strategies to foster safe and inclusive conversations\, empowering all students to excel. Gain access to a valuable toolkit and resources\, including a comprehensive guidance document for practitioners to reference after the session. \nWednesday\, Jan 10\, 2024 10:00 – 11:30 AM Central Time  Register Here \nThe 2024-2025 FAFSA: Helping Homeless and Foster Youth \nThe highly anticipated 2024-2025 FAFSA is scheduled to be released by December 31\, 2023. This FAFSA contains many changes as a result of the FAFSA Simplification Act\, including important new policies for homeless and foster youth. Webinar participants will learn how to help homeless and foster youth fill out the new 2024-2025 FAFSA; get tips for working with financial aid offices to support homeless and foster youth; and find out about how ARP-HCY funds can be used to support postsecondary access and transition. There will be ample time for questions and answers. \nTuesday\, January 16\, 2024\, at 2:30 – 3:45 PM CST Register Here \nFAFSA/TASFA Q&A Sessions \nJoin TxCAN as they bring together financial aid experts from uAspire and Texas OnCourse to answer any questions that arise from the opening of the 24-25 FAFSA & TASFA. \nThursday\, February 1\, 2024   9:30AM- 10:30PM  CST Register Here\nThursday\, February 13\, 2024   2:00PM- 3:00PM  CST Register Here \nScholarships\n  \n Equitable Excellence Scholarship\nEquitable Foundation has established the Equitable Excellence® Scholarship Program Scholarship Program to assist high school seniors who are planning to continue their education at a two- or four-year college in the United States by Fall 2024.\n The deadline to apply is December 18 Apply Here\n \nFidelity Scholars Program\nThe Fidelity Scholars Program combines a generous annual needs-based scholarship with robust wrap-around services that support students’ persistence to degree or certificate attainment.\n The deadline to apply is January 11 Apply Here\n \nThe Dream.US National Scholarship\nApplications are open to undocumented immigrant students with or without DACA or TPS who came to the U.S. before the age of 16 and before Nov. 1\, 2018. The National Scholarship Award will cover your tuition and fees at one of our Partner Colleges up to a maximum of $33\,000 for a bachelor’s degree.\n The deadline to apply is February 29. Apply Here \nSocial Media Graphics For You! \nThanks to our friends at Get Schooled for sharing this FSA ID graphic. Please feel free to share on your district or organization’s social media and communication channels.  \n“You’re required to create an FSA ID to access and complete the FASFA – so why not set it up now?! Our friends at Get Schooled will help you create the FSA ID so you’re ready when the FAFSA opens in December”
URL:https://ntrp16.org/event/december-txcan-better-fafsa-e-blast-training-opportunity/
LOCATION:TX
END:VEVENT
BEGIN:VEVENT
DTSTART;TZID=UTC:20231205T090000
DTEND;TZID=UTC:20231205T120000
DTSTAMP:20260423T154632
CREATED:20230830T012710Z
LAST-MODIFIED:20230830T012807Z
UID:426-1701766800-1701777600@ntrp16.org
SUMMARY:NTRP-16 Council: FAFSA Updates
DESCRIPTION:Topics: \nFAFSA (Free Application for Federal Student Aid) Updates: A Deep Dive Discussion \n  \nFacilitator: Javier Garza and Bobby Morris
URL:https://ntrp16.org/event/ntrp-16-council-fafsa-updates/
LOCATION:Virtual
END:VEVENT
BEGIN:VEVENT
DTSTART;TZID=UTC:20230920T090000
DTEND;TZID=UTC:20230920T120000
DTSTAMP:20260423T154632
CREATED:20230830T012057Z
LAST-MODIFIED:20230830T013337Z
UID:419-1695200400-1695211200@ntrp16.org
SUMMARY:NTRP-16 Council: Education and Career Legislative Updates
DESCRIPTION:Topics: \nEducation and Career\nLegislative Updates \n  \nHost: Abigail \nFacilitator: Christine Hubbard
URL:https://ntrp16.org/event/ntrp-16-council-meeting-ed-career-updates/
LOCATION:ESC Region 10\, 400 E. Spring Valley Rd.\, Richardson\, TX\, 75081\, United States
END:VEVENT
END:VCALENDAR